BEGIN:VCALENDAR
VERSION:2.0
PRODID:-//Centre Social ASC Bellevue Sainte Claire - ECPv5.1.4//NONSGML v1.0//EN
CALSCALE:GREGORIAN
METHOD:PUBLISH
X-WR-CALNAME:Centre Social ASC Bellevue Sainte Claire
X-ORIGINAL-URL:https://ascbellevue.fr
X-WR-CALDESC:Évènements pour Centre Social ASC Bellevue Sainte Claire
BEGIN:VTIMEZONE
TZID:Europe/Paris
BEGIN:DAYLIGHT
TZOFFSETFROM:+0100
TZOFFSETTO:+0200
TZNAME:CEST
DTSTART:20210328T010000
END:DAYLIGHT
BEGIN:STANDARD
TZOFFSETFROM:+0200
TZOFFSETTO:+0100
TZNAME:CET
DTSTART:20211031T010000
END:STANDARD
END:VTIMEZONE
BEGIN:VEVENT
DTSTART;TZID=Europe/Paris:20210203T100000
DTEND;TZID=Europe/Paris:20210203T113000
DTSTAMP:20260422T222959
CREATED:20210201T150504Z
LAST-MODIFIED:20210201T150504Z
UID:2821-1612346400-1612351800@ascbellevue.fr
SUMMARY:Visionnage film Wall-e (Activité 3-10ans)
DESCRIPTION:
URL:https://ascbellevue.fr/agenda/visionnage-film-wall-e-activite-3-10ans/
LOCATION:École bellevue\, 5 rue wagner\, LIMOGES\, 87000\, France
ORGANIZER;CN="ASC%20BELLEVUE%20SAINTE%20CLAIRE":MAILTO:direction.ascbellevue@orange.fr
END:VEVENT
END:VCALENDAR